BEGIN:VCALENDAR
VERSION:2.0
PRODID:-//Minnesota Clocks &amp; Watches - ECPv6.15.20//NONSGML v1.0//EN
CALSCALE:GREGORIAN
METHOD:PUBLISH
X-ORIGINAL-URL:https://minnesotawatches.com
X-WR-CALDESC:Events for Minnesota Clocks &amp; Watches
REFRESH-INTERVAL;VALUE=DURATION:PT1H
X-Robots-Tag:noindex
X-PUBLISHED-TTL:PT1H
BEGIN:VTIMEZONE
TZID:America/Chicago
BEGIN:DAYLIGHT
TZOFFSETFROM:-0600
TZOFFSETTO:-0500
TZNAME:CDT
DTSTART:20210314T080000
END:DAYLIGHT
BEGIN:STANDARD
TZOFFSETFROM:-0500
TZOFFSETTO:-0600
TZNAME:CST
DTSTART:20211107T070000
END:STANDARD
BEGIN:DAYLIGHT
TZOFFSETFROM:-0600
TZOFFSETTO:-0500
TZNAME:CDT
DTSTART:20220313T080000
END:DAYLIGHT
BEGIN:STANDARD
TZOFFSETFROM:-0500
TZOFFSETTO:-0600
TZNAME:CST
DTSTART:20221106T070000
END:STANDARD
BEGIN:DAYLIGHT
TZOFFSETFROM:-0600
TZOFFSETTO:-0500
TZNAME:CDT
DTSTART:20230312T080000
END:DAYLIGHT
BEGIN:STANDARD
TZOFFSETFROM:-0500
TZOFFSETTO:-0600
TZNAME:CST
DTSTART:20231105T070000
END:STANDARD
BEGIN:DAYLIGHT
TZOFFSETFROM:-0600
TZOFFSETTO:-0500
TZNAME:CDT
DTSTART:20240310T080000
END:DAYLIGHT
BEGIN:STANDARD
TZOFFSETFROM:-0500
TZOFFSETTO:-0600
TZNAME:CST
DTSTART:20241103T070000
END:STANDARD
BEGIN:DAYLIGHT
TZOFFSETFROM:-0600
TZOFFSETTO:-0500
TZNAME:CDT
DTSTART:20250309T080000
END:DAYLIGHT
BEGIN:STANDARD
TZOFFSETFROM:-0500
TZOFFSETTO:-0600
TZNAME:CST
DTSTART:20251102T070000
END:STANDARD
BEGIN:DAYLIGHT
TZOFFSETFROM:-0600
TZOFFSETTO:-0500
TZNAME:CDT
DTSTART:20260308T080000
END:DAYLIGHT
BEGIN:STANDARD
TZOFFSETFROM:-0500
TZOFFSETTO:-0600
TZNAME:CST
DTSTART:20261101T070000
END:STANDARD
END:VTIMEZONE
BEGIN:VEVENT
DTSTART;TZID=America/Chicago:20250503T100000
DTEND;TZID=America/Chicago:20250504T150000
DTSTAMP:20260421T090113
CREATED:20250424T033539Z
LAST-MODIFIED:20250424T033540Z
UID:10000121-1746266400-1746370800@minnesotawatches.com
SUMMARY:Midwest Watch Show Returns!
DESCRIPTION:Join us again for the most substantial watch show and swap meet in the Minneapolis area – two days of watches\, tools\, accessories\, etc. Rolex and many other high-end names. New\, vintage\, and antique wrist and pocket watches. \n\n\n\nThis event is always a highlight of the year. Contact Us if you would like to setup a table to sell at the meet. \n\n\n\nSponsored by Crown Jewelry and Time
URL:https://minnesotawatches.com/event/midwest-watch-show-returns/
LOCATION:Comfort Inn Plymouth\, 3000 Harbor Ln\, N\, Plymouth\, MN\, 55447\, United States
END:VEVENT
BEGIN:VEVENT
DTSTART;TZID=America/Chicago:20240526T090000
DTEND;TZID=America/Chicago:20240526T150000
DTSTAMP:20260421T090113
CREATED:20240224T131115Z
LAST-MODIFIED:20240224T131115Z
UID:10000105-1716714000-1716735600@minnesotawatches.com
SUMMARY:Midwest Watch Show Spring 2024
DESCRIPTION:The Midwest Watch Show returns May 25th-26th! \nJoin us for an unbelievable selection of watches – many high-end Rolex and other makes\, new\, vintage\, and antique. Many sellers – both professional dealers and individuals. \nWant to sell? Tables are available for rent for a small fee. \n9:00AM – 3:00PM Saturday \n9:00AM – 3:00PM Sunday \nContact Us for more information.
URL:https://minnesotawatches.com/event/mws-5-26-2024/
LOCATION:Comfort Inn Plymouth\, 3000 Harbor Ln\, N\, Plymouth\, MN\, 55447\, United States
END:VEVENT
BEGIN:VEVENT
DTSTART;TZID=America/Chicago:20240525T090000
DTEND;TZID=America/Chicago:20240525T150000
DTSTAMP:20260421T090113
CREATED:20240224T131014Z
LAST-MODIFIED:20240224T131014Z
UID:10000104-1716627600-1716649200@minnesotawatches.com
SUMMARY:Midwest Watch Show Spring 2024
DESCRIPTION:The Midwest Watch Show returns May 25th-26th! \nJoin us for an unbelievable selection of watches – many high-end Rolex and other makes\, new\, vintage\, and antique. Many sellers – both professional dealers and individuals. \nWant to sell? Tables are available for rent for a small fee. \n9:00AM – 3:00PM Saturday \n9:00AM – 3:00PM Sunday \nContact Us for more information.
URL:https://minnesotawatches.com/event/mws-5-25-2024/
LOCATION:Comfort Inn Plymouth\, 3000 Harbor Ln\, N\, Plymouth\, MN\, 55447\, United States
END:VEVENT
BEGIN:VEVENT
DTSTART;TZID=America/Chicago:20230910T090000
DTEND;TZID=America/Chicago:20230910T150000
DTSTAMP:20260421T090113
CREATED:20230814T142833Z
LAST-MODIFIED:20230814T142833Z
UID:10000095-1694336400-1694358000@minnesotawatches.com
SUMMARY:Midwest Watch Show Fall 2023
DESCRIPTION:Join us for this fantastic two-day event featuring dozens of dealers and private sellers with fantastic representation of modern\, vintage\, and antique watches. \nTables are available if you want to sell at the show. \nContact Us for more information.
URL:https://minnesotawatches.com/event/midwest-watch-show-fall-2023-2/
LOCATION:Comfort Inn Plymouth\, 3000 Harbor Ln\, N\, Plymouth\, MN\, 55447\, United States
ATTACH;FMTTYPE=image/jpeg:https://minnesotawatches.com/wp-content/uploads/2023/08/MidwestWatchShow.jpg
END:VEVENT
BEGIN:VEVENT
DTSTART;TZID=America/Chicago:20230909T090000
DTEND;TZID=America/Chicago:20230909T150000
DTSTAMP:20260421T090113
CREATED:20230814T142523Z
LAST-MODIFIED:20230814T142523Z
UID:10000094-1694250000-1694271600@minnesotawatches.com
SUMMARY:Midwest Watch Show Fall 2023
DESCRIPTION:Join us for this fantastic two-day event featuring dozens of dealers and private sellers with fantastic representation of modern\, vintage\, and antique watches. \nTables are available if you want to sell at the show. \nContact Us for more information.
URL:https://minnesotawatches.com/event/midwest-watch-show-fall-2023/
LOCATION:Comfort Inn Plymouth\, 3000 Harbor Ln\, N\, Plymouth\, MN\, 55447\, United States
ATTACH;FMTTYPE=image/jpeg:https://minnesotawatches.com/wp-content/uploads/2023/08/MidwestWatchShow.jpg
END:VEVENT
BEGIN:VEVENT
DTSTART;TZID=America/Chicago:20230429T090000
DTEND;TZID=America/Chicago:20230430T150000
DTSTAMP:20260421T090113
CREATED:20221120T012132Z
LAST-MODIFIED:20230228T024012Z
UID:10000082-1682758800-1682866800@minnesotawatches.com
SUMMARY:Midwest Watch Club Spring 2023 Watch Show and Swap Meet
DESCRIPTION:Join us for the semi-annual Midwest Watch Club show and swap meet. The show always includes very special pieces and great prices.  \nIf you want to rent a table to sell\, tables are available for a small fee to help offset the cost of the show. \nStay tuned for more details!
URL:https://minnesotawatches.com/event/midwest-watch-club-spring-2023-watch-show-and-swap-meet/2023-04-29/
LOCATION:Comfort Inn Plymouth\, 3000 Harbor Ln\, N\, Plymouth\, MN\, 55447\, United States
END:VEVENT
BEGIN:VEVENT
DTSTART;TZID=America/Chicago:20220313T090000
DTEND;TZID=America/Chicago:20220313T150000
DTSTAMP:20260421T090113
CREATED:20220310T135019Z
LAST-MODIFIED:20220310T140227Z
UID:10000068-1647162000-1647183600@minnesotawatches.com
SUMMARY:Midwest Watch Club Swap Meet
DESCRIPTION:The Midwest Watch Show is back!\nSunday\, March 13th\nComfort Inn Plymouth-Minneapolis\n3000 Harbor Ln N\nPlymouth\, MN 55447\nLucky 13’s Pub attached\nDoors 9am – 3pm\n\n\n\n\n\n\n\n\n\n\n\nLocal Dealers\nDavid Brenke – TC Time & Luxury\nRyan Beam – Crown Jewelry and Time\nAlex Gravelle – Velle AlexanderOut of state Watch Dealers\nAdam Beardsley – Belmont Watches\nJon-Thomas Calvert – J Coronet\nThomas Mastrippolito – Beloved WatchLocal Clubs\nDavid Schaffner – Whiskey and Watches\nBrian Wheeler – Cigars and Watches \nAdditional Vendors/Dealers TBD approaching the event \nWatchmakers\, custom strap tailors\, jewelers\, tools and parts available \nLucky 13’s servers will be circulating the room to take drink and food orders for dealers and patrons alike.\n\n\n\n\n\n\n\nInterested Dealers/Vendors\nAnyone interested in setting up a table to display watches\, jewelry\, coins or services please: \n\nRSVP with Ryan to guarantee your table\nCost is $20/table due at the Show March 13th\nDealer/Vendor doors open 7:30am – 9:00am for set up. \nPublic doors at 9:00am\n\nPlease contact Ryan Beam at (763) 350-0334 or Ryan@CrownJewelryandTime.com to RSVP as a dealer
URL:https://minnesotawatches.com/event/mwwc-3-2022/
LOCATION:Comfort Inn Plymouth\, 3000 Harbor Ln\, N\, Plymouth\, MN\, 55447\, United States
END:VEVENT
END:VCALENDAR