BEGIN:VCALENDAR
VERSION:2.0
PRODID:-//Minnesota Clocks &amp; Watches - ECPv6.15.20//NONSGML v1.0//EN
CALSCALE:GREGORIAN
METHOD:PUBLISH
X-ORIGINAL-URL:https://minnesotawatches.com
X-WR-CALDESC:Events for Minnesota Clocks &amp; Watches
REFRESH-INTERVAL;VALUE=DURATION:PT1H
X-Robots-Tag:noindex
X-PUBLISHED-TTL:PT1H
BEGIN:VTIMEZONE
TZID:America/Chicago
BEGIN:DAYLIGHT
TZOFFSETFROM:-0600
TZOFFSETTO:-0500
TZNAME:CDT
DTSTART:20230312T080000
END:DAYLIGHT
BEGIN:STANDARD
TZOFFSETFROM:-0500
TZOFFSETTO:-0600
TZNAME:CST
DTSTART:20231105T070000
END:STANDARD
BEGIN:DAYLIGHT
TZOFFSETFROM:-0600
TZOFFSETTO:-0500
TZNAME:CDT
DTSTART:20240310T080000
END:DAYLIGHT
BEGIN:STANDARD
TZOFFSETFROM:-0500
TZOFFSETTO:-0600
TZNAME:CST
DTSTART:20241103T070000
END:STANDARD
BEGIN:DAYLIGHT
TZOFFSETFROM:-0600
TZOFFSETTO:-0500
TZNAME:CDT
DTSTART:20250309T080000
END:DAYLIGHT
BEGIN:STANDARD
TZOFFSETFROM:-0500
TZOFFSETTO:-0600
TZNAME:CST
DTSTART:20251102T070000
END:STANDARD
END:VTIMEZONE
BEGIN:VEVENT
DTSTART;TZID=America/Chicago:20241205T190000
DTEND;TZID=America/Chicago:20241205T210000
DTSTAMP:20260421T032401
CREATED:20241130T014546Z
LAST-MODIFIED:20241130T025259Z
UID:10000111-1733425200-1733432400@minnesotawatches.com
SUMMARY:Minnesota Horological Society December 2024 Meeting
DESCRIPTION:LOCATION:Hopkins Pavilion (Room #101\, first floor next to office)11000 Excelsior Blvd.Hopkins\, MN 55343 (See map on page 2)PROGRAM:This program will be a Google Meet video presentation by Trevor Beatson\, who brings a wealth of experience in machining and horology. Trevor will share insights from his journey in creating and NAWCC award winning clock and tools.
URL:https://minnesotawatches.com/event/minnesota-horological-society-december-2024-meeting/
LOCATION:Hopkins Pavilion\, 11000 Excelsior Blvd\, Hopkins\, MN\, 55343\, United States
END:VEVENT
END:VCALENDAR