BEGIN:VCALENDAR
VERSION:2.0
PRODID:-//Minnesota Clocks &amp; Watches - ECPv6.15.20//NONSGML v1.0//EN
CALSCALE:GREGORIAN
METHOD:PUBLISH
X-ORIGINAL-URL:https://minnesotawatches.com
X-WR-CALDESC:Events for Minnesota Clocks &amp; Watches
REFRESH-INTERVAL;VALUE=DURATION:PT1H
X-Robots-Tag:noindex
X-PUBLISHED-TTL:PT1H
BEGIN:VTIMEZONE
TZID:America/Chicago
BEGIN:DAYLIGHT
TZOFFSETFROM:-0600
TZOFFSETTO:-0500
TZNAME:CDT
DTSTART:20230312T080000
END:DAYLIGHT
BEGIN:STANDARD
TZOFFSETFROM:-0500
TZOFFSETTO:-0600
TZNAME:CST
DTSTART:20231105T070000
END:STANDARD
BEGIN:DAYLIGHT
TZOFFSETFROM:-0600
TZOFFSETTO:-0500
TZNAME:CDT
DTSTART:20240310T080000
END:DAYLIGHT
BEGIN:STANDARD
TZOFFSETFROM:-0500
TZOFFSETTO:-0600
TZNAME:CST
DTSTART:20241103T070000
END:STANDARD
BEGIN:DAYLIGHT
TZOFFSETFROM:-0600
TZOFFSETTO:-0500
TZNAME:CDT
DTSTART:20250309T080000
END:DAYLIGHT
BEGIN:STANDARD
TZOFFSETFROM:-0500
TZOFFSETTO:-0600
TZNAME:CST
DTSTART:20251102T070000
END:STANDARD
END:VTIMEZONE
BEGIN:VEVENT
DTSTART;TZID=America/Chicago:20240726T080000
DTEND;TZID=America/Chicago:20240728T170000
DTSTAMP:20260423T154347
CREATED:20240427T134813Z
LAST-MODIFIED:20240427T134813Z
UID:10000109-1721980800-1722186000@minnesotawatches.com
SUMMARY:Little Log House Antique Power Show
DESCRIPTION:The Little Log House Antique Power Show and Pioneer Village is a fantastic 3-day event with tractor pulls\, tractor parades\, reenactments\, antique machinery demonstrations\, a flea market\, and more. While you are there\, stop at Ye Olde Clock Shoppe – a building manned by the Minnesota Horological Society where you can meet members\, get information about clock and watch-related clubs in the area\, and take home an antique clock or two. \nEvent Schedule \n \n  \n 
URL:https://minnesotawatches.com/event/little-log-house-2024/
LOCATION:Little Log House Pioneer Village\, 21889 Michael Avenue\, Hastings\, 55033\, United States
END:VEVENT
END:VCALENDAR