BEGIN:VCALENDAR
VERSION:2.0
PRODID:-//Minnesota Clocks &amp; Watches - ECPv6.15.20//NONSGML v1.0//EN
CALSCALE:GREGORIAN
METHOD:PUBLISH
X-ORIGINAL-URL:https://minnesotawatches.com
X-WR-CALDESC:Events for Minnesota Clocks &amp; Watches
REFRESH-INTERVAL;VALUE=DURATION:PT1H
X-Robots-Tag:noindex
X-PUBLISHED-TTL:PT1H
BEGIN:VTIMEZONE
TZID:America/Chicago
BEGIN:DAYLIGHT
TZOFFSETFROM:-0600
TZOFFSETTO:-0500
TZNAME:CDT
DTSTART:20230312T080000
END:DAYLIGHT
BEGIN:STANDARD
TZOFFSETFROM:-0500
TZOFFSETTO:-0600
TZNAME:CST
DTSTART:20231105T070000
END:STANDARD
BEGIN:DAYLIGHT
TZOFFSETFROM:-0600
TZOFFSETTO:-0500
TZNAME:CDT
DTSTART:20240310T080000
END:DAYLIGHT
BEGIN:STANDARD
TZOFFSETFROM:-0500
TZOFFSETTO:-0600
TZNAME:CST
DTSTART:20241103T070000
END:STANDARD
BEGIN:DAYLIGHT
TZOFFSETFROM:-0600
TZOFFSETTO:-0500
TZNAME:CDT
DTSTART:20250309T080000
END:DAYLIGHT
BEGIN:STANDARD
TZOFFSETFROM:-0500
TZOFFSETTO:-0600
TZNAME:CST
DTSTART:20251102T070000
END:STANDARD
END:VTIMEZONE
BEGIN:VEVENT
DTSTART;TZID=America/Chicago:20240502T190000
DTEND;TZID=America/Chicago:20240502T210000
DTSTAMP:20260423T201834
CREATED:20240427T134133Z
LAST-MODIFIED:20240427T134133Z
UID:10000107-1714676400-1714683600@minnesotawatches.com
SUMMARY:Minnesota Horological Society May 2024 meeting
DESCRIPTION:PROGRAM: The program will be a travelogue of The Clockmaker’s Museum in the London Science Museum\, by Thomas Becker\, and a view of their collection of clocks and watches.
URL:https://minnesotawatches.com/event/minnesota-horological-society-may-2024-meeting/
LOCATION:Hopkins Pavilion\, 11000 Excelsior Blvd\, Hopkins\, MN\, 55343\, United States
END:VEVENT
BEGIN:VEVENT
DTSTART;VALUE=DATE:20240511
DTEND;VALUE=DATE:20240522
DTSTAMP:20260423T201834
CREATED:20240512T124536Z
LAST-MODIFIED:20240512T124536Z
UID:10000110-1715385600-1716335999@minnesotawatches.com
SUMMARY:Clock auction - Wayne Bastian estate May 11-21
DESCRIPTION:The Wayne Bastian Clock auction in Plainview MN (near Rochester MN) features over 200 clocks from Wayne’s collection. This is an online only auction. See link for details. \nThis auction is not affiliated with Minnesota Clocks & Watches and is posted as a public service.
URL:https://minnesotawatches.com/event/clock-auction-wayne-bastian-estate-may-11-21/
LOCATION:Minnesota
END:VEVENT
BEGIN:VEVENT
DTSTART;TZID=America/Chicago:20240518T170000
DTEND;TZID=America/Chicago:20240518T210000
DTSTAMP:20260423T201834
CREATED:20240427T134324Z
LAST-MODIFIED:20240427T134324Z
UID:10000108-1716051600-1716066000@minnesotawatches.com
SUMMARY:Minnesota NAWCC OT Lang May 2024 meeting
DESCRIPTION:Join us for a presentation by Bill Thomas\, longtime employee of Twin Cities Supply – a watch material supply house. \nLocation to be announced.
URL:https://minnesotawatches.com/event/minnesota-nawcc052024/
LOCATION:Minnesota
END:VEVENT
BEGIN:VEVENT
DTSTART;TZID=America/Chicago:20240525T090000
DTEND;TZID=America/Chicago:20240525T150000
DTSTAMP:20260423T201834
CREATED:20240224T131014Z
LAST-MODIFIED:20240224T131014Z
UID:10000104-1716627600-1716649200@minnesotawatches.com
SUMMARY:Midwest Watch Show Spring 2024
DESCRIPTION:The Midwest Watch Show returns May 25th-26th! \nJoin us for an unbelievable selection of watches – many high-end Rolex and other makes\, new\, vintage\, and antique. Many sellers – both professional dealers and individuals. \nWant to sell? Tables are available for rent for a small fee. \n9:00AM – 3:00PM Saturday \n9:00AM – 3:00PM Sunday \nContact Us for more information.
URL:https://minnesotawatches.com/event/mws-5-25-2024/
LOCATION:Comfort Inn Plymouth\, 3000 Harbor Ln\, N\, Plymouth\, MN\, 55447\, United States
END:VEVENT
BEGIN:VEVENT
DTSTART;TZID=America/Chicago:20240526T090000
DTEND;TZID=America/Chicago:20240526T150000
DTSTAMP:20260423T201834
CREATED:20240224T131115Z
LAST-MODIFIED:20240224T131115Z
UID:10000105-1716714000-1716735600@minnesotawatches.com
SUMMARY:Midwest Watch Show Spring 2024
DESCRIPTION:The Midwest Watch Show returns May 25th-26th! \nJoin us for an unbelievable selection of watches – many high-end Rolex and other makes\, new\, vintage\, and antique. Many sellers – both professional dealers and individuals. \nWant to sell? Tables are available for rent for a small fee. \n9:00AM – 3:00PM Saturday \n9:00AM – 3:00PM Sunday \nContact Us for more information.
URL:https://minnesotawatches.com/event/mws-5-26-2024/
LOCATION:Comfort Inn Plymouth\, 3000 Harbor Ln\, N\, Plymouth\, MN\, 55447\, United States
END:VEVENT
END:VCALENDAR