BEGIN:VCALENDAR
VERSION:2.0
PRODID:-//Minnesota Clocks &amp; Watches - ECPv6.15.20//NONSGML v1.0//EN
CALSCALE:GREGORIAN
METHOD:PUBLISH
X-WR-CALNAME:Minnesota Clocks &amp; Watches
X-ORIGINAL-URL:https://minnesotawatches.com
X-WR-CALDESC:Events for Minnesota Clocks &amp; Watches
REFRESH-INTERVAL;VALUE=DURATION:PT1H
X-Robots-Tag:noindex
X-PUBLISHED-TTL:PT1H
BEGIN:VTIMEZONE
TZID:America/Chicago
BEGIN:DAYLIGHT
TZOFFSETFROM:-0600
TZOFFSETTO:-0500
TZNAME:CDT
DTSTART:20180311T080000
END:DAYLIGHT
BEGIN:STANDARD
TZOFFSETFROM:-0500
TZOFFSETTO:-0600
TZNAME:CST
DTSTART:20181104T070000
END:STANDARD
BEGIN:DAYLIGHT
TZOFFSETFROM:-0600
TZOFFSETTO:-0500
TZNAME:CDT
DTSTART:20190310T080000
END:DAYLIGHT
BEGIN:STANDARD
TZOFFSETFROM:-0500
TZOFFSETTO:-0600
TZNAME:CST
DTSTART:20191103T070000
END:STANDARD
BEGIN:DAYLIGHT
TZOFFSETFROM:-0600
TZOFFSETTO:-0500
TZNAME:CDT
DTSTART:20200308T080000
END:DAYLIGHT
BEGIN:STANDARD
TZOFFSETFROM:-0500
TZOFFSETTO:-0600
TZNAME:CST
DTSTART:20201101T070000
END:STANDARD
END:VTIMEZONE
BEGIN:VEVENT
DTSTART;TZID=America/Chicago:20190817T090000
DTEND;TZID=America/Chicago:20190817T140000
DTSTAMP:20260420T011309
CREATED:20190705T010610Z
LAST-MODIFIED:20190705T010610Z
UID:10000049-1566032400-1566050400@minnesotawatches.com
SUMMARY:NAWCC Midwest Clock and Watch Mart (Illinois)
DESCRIPTION:Several NAWCC chapters are hosting a large mart and have invited the public. No preregistration and no fee for NAWCC members. $5.00 fee for non-members. \n 
URL:https://minnesotawatches.com/event/nawcc-midwest-clock-and-watch-mart-illinois/
LOCATION:Antioch\, Il VFW\, 75 North Ave\, Antioch\, IL\, 60002\, United States
ORGANIZER;CN="Frank Nachman":MAILTO:f_nachman@yahoo.com
END:VEVENT
BEGIN:VEVENT
DTSTART;TZID=America/Chicago:20190801T190000
DTEND;TZID=America/Chicago:20190801T213000
DTSTAMP:20260420T011309
CREATED:20190619T105049Z
LAST-MODIFIED:20190619T105049Z
UID:10000047-1564686000-1564695000@minnesotawatches.com
SUMMARY:Minnesota Clock Guild August Meeting
DESCRIPTION:The program will be lubricants by Dan Levesque. Other details TBD.
URL:https://minnesotawatches.com/event/minnesota-clock-guild-august-meeting/
LOCATION:To Be Determined
END:VEVENT
BEGIN:VEVENT
DTSTART;TZID=America/Chicago:20190726T080000
DTEND;TZID=America/Chicago:20190728T170000
DTSTAMP:20260420T011310
CREATED:20190712T114400Z
LAST-MODIFIED:20190722T193657Z
UID:10000033-1564128000-1564333200@minnesotawatches.com
SUMMARY:Little Log House Antique Power Show
DESCRIPTION:Displays of antique tractors and other implements\, historic buildings\, and live events including tractor pulls\, live music\, and food. There is a whole building related to antique clocks and watches – make sure you stop in to see your Minnesota NAWCC friends! Contact Us if you would like to help with the clock and watch building.
URL:https://minnesotawatches.com/event/little-log-house-antique-power-show/
LOCATION:Little Log House Pioneer Village\, 21889 Michael Avenue\, Hastings\, 55033\, United States
END:VEVENT
BEGIN:VEVENT
DTSTART;TZID=America/Chicago:20190720T170000
DTEND;TZID=America/Chicago:20190720T210000
DTSTAMP:20260420T011310
CREATED:20190526T024400Z
LAST-MODIFIED:20190710T122618Z
UID:10000034-1563642000-1563656400@minnesotawatches.com
SUMMARY:NAWCC OT Lang July Meeting
DESCRIPTION:The Minnesota regional NAWCC Chapter meets the third Saturday of odd-numbered calendar months at various restaurants around the Twin Cities metro area. The next meeting (July 2019) will be held at Ol’ Mexico in Roseville\, MN and feature a presentation on hand-made clocks by Steve Robb. \nThe schedule will be: \n5:00PM – 6:00PM Registration\, social hour and mart \n6:00PM – 7:00PM Dinner \n7:00PM – 7:30PM Club business meeting \n7:30PM – 8:30PM Presentation by Steve Robb \n  \nContact Us for more information. Pre-registration by July 13th is required for the meal.
URL:https://minnesotawatches.com/event/nawcc-ot-lang-meeting-july-2019/
LOCATION:Ol’ Mexico\, 1754 Lexington Ave. N\, Roseville\, MN\, 55113\, United States
CATEGORIES:NAWCC
END:VEVENT
BEGIN:VEVENT
DTSTART;VALUE=DATE:20190717
DTEND;VALUE=DATE:20190724
DTSTAMP:20260420T011310
CREATED:20190619T105433Z
LAST-MODIFIED:20190619T105433Z
UID:10000048-1563321600-1563926399@minnesotawatches.com
SUMMARY:Big Boy Steam Train
DESCRIPTION:The recently restored UP 4014 will be coming to town passing through Southern Minnesota\, the Twin Cities Metro Area\, up north to Duluth/Superior\, then back through the Twin Cities.  This engine is called the “Big Boy” and it is big.  It has a single boiler with 2 sets of cylinders\, rods and driving wheels.\n\nFor more info and a detailed schedule see:\n\nhttps://www.up.com/heritage/steam/schedule/index.htm
URL:https://minnesotawatches.com/event/big-boy-steam-train/
LOCATION:MN
END:VEVENT
BEGIN:VEVENT
DTSTART;VALUE=DATE:20190713
DTEND;VALUE=DATE:20190714
DTSTAMP:20260420T011310
CREATED:20190618T162350Z
LAST-MODIFIED:20190710T122514Z
UID:10000038-1562976000-1563062399@minnesotawatches.com
SUMMARY:Registration deadline for July NAWCC OT Lang meeting
DESCRIPTION:Please register by July 10th for the July OT Lang meeting which will be held on July 20th starting at 5:00PM. \nSee the event details here.
URL:https://minnesotawatches.com/event/registration-deadline-for-july-nawcc-ot-lang-meeting/
LOCATION:MN
END:VEVENT
BEGIN:VEVENT
DTSTART;TZID=America/Chicago:20190711T190000
DTEND;TZID=America/Chicago:20190711T213000
DTSTAMP:20260420T011310
CREATED:20190619T104912Z
LAST-MODIFIED:20190619T104912Z
UID:10000032-1562871600-1562880600@minnesotawatches.com
SUMMARY:Minnesota Clock Guild July Meeting
DESCRIPTION:PROGRAM:\nDemonstration on recovering cuckoo clock bellows and an explanation about adding dampening to combs of music box cylinders\, by Susan Wood. How to re-pivoting a music box governor\, by Richard Zielike.\n\nRoom 203 at the end of the hall.
URL:https://minnesotawatches.com/event/mcg-july-2019/
LOCATION:Hopkins Pavilion\, 11000 Excelsior Blvd\, Hopkins\, MN\, 55343\, United States
END:VEVENT
BEGIN:VEVENT
DTSTART;TZID=America/Chicago:20190608T100000
DTEND;TZID=America/Chicago:20190608T160000
DTSTAMP:20260420T011310
CREATED:20190527T023359Z
LAST-MODIFIED:20190527T023359Z
UID:10000036-1559988000-1560009600@minnesotawatches.com
SUMMARY:Earl Milbridge Clock Sale part 2
DESCRIPTION:Estate sale No. 2 for Earl Milbridge\, Saturday June 8\, 2019 \n           Numbers at 9:00 AM\, sale starts at 10:00 AM \n          2288 – 15th Avenue East\, North St. Paul\, MN 55109 \nClocks are full price from 10:00 AM to 12:59 PM\, and 25% off original price from 1:00 PM to 4:00 PM.  This is a CASH sale only\, no checks\, debit\, or credit cards will be accepted. \n  \nClocks to be sold on Sale No. 2\, Saturday\, June 8\, 2019: \n“Remember” Reich Brothers lantern style one weight German wall clock\, price: $300 \nBaroque Two weight Vienna Regulator\, maker unknown\, price: $450 \nGustav Becker 3 weight Baroque Vienna Regulator\, price: $850 \nWarner & Hind English bracket clock\, price: \nGilt French mantle clock with seen on front\, price $185 \nSchatz anniversary clock (400 day)\, price: $25 \nFrench figural clock\, gilt with marble base\, price $125 \n\nG. Hornung banjo clock\, price: $85\n\nFrench drum head black marble mantel regulator with compensated pendulum\, price: $325 \nSmith Westminster Chime tambour clock\, price: $35 \nNew Haven drop octagon wall clock\, price: $75 \nNew Haven store regulator\, time only\, with Coca Cola ad in lower glass\, price: $195 \nGerman Hallmark signed plate clock\, price: $45 \nCoronet tambour clock\, time & strike\, price: $25 \nIngram oak kitchen clock with alarm\, price: $65 \nWaterbury No. 44 double dial perpetual calendar clock\, price: $350 \nWaterbury 30 hour striking mantle clock\, price: $65 \nGilbert oak kitchen clock\, price: $65 \nAnsonia cast iron ornate mantle clock\, price: $95 \nSeth Thomas banjo clock\, price: $75 \nAnsonia tambour mantle clock\, price: $25 \nSeth Thomas Adamantine mantle clock\, price:  $95 \n\nN. Welch walnut parlor clock\, price:\n\nWaterbury Admiral long drop regulator with strike & calendar\, price: $95 \nSankosha Japanese wall clock\, price: $ \nElectric tambour clock\, price $15 \nKeebler rocking bird\, price: $20 \nEdison Home\, model A cylinder phonograph with 2 & 4 gearing\, large horn & crane\, Price $350
URL:https://minnesotawatches.com/event/earl-milbridge-clock-sale-part-2/
LOCATION:2288 15th Ave E North St. Paul\, MN 55109\, 2288 15th Ave. E\, North St. Paul\, MN\, 55109\, United States
END:VEVENT
BEGIN:VEVENT
DTSTART;TZID=America/Chicago:20190601T100000
DTEND;TZID=America/Chicago:20190601T160000
DTSTAMP:20260420T011310
CREATED:20190527T023221Z
LAST-MODIFIED:20190527T023440Z
UID:10000035-1559383200-1559404800@minnesotawatches.com
SUMMARY:Earl Milbridge clock sale part 1
DESCRIPTION:Estate sale No. 1 for Earl Milbridge\, Saturday June 1\, 2019 \n           Numbers at 9:00 AM\, sale starts at 10:00 AM \n      2288 – 15th Avenue East\, North St. Paul\, MN 55109 \nClocks are full price from 10:00 AM to 12:59 PM\, and 25% off original price from 1:00 PM to 4:00 PM.  This is a CASH sale only\, no checks\, debit\, or credit cards will be accepted. \n  \nClocks to be sold on Sale No. 1\, Saturday\, June 1: \nGustav Becker Transitional style 3 weight Vienna Regulator\, price: $850 \nMann Baroque case spring wound R.A.\, price: $325 \nSeth Thomas bronze Gothic time & strike mantle clock\, price: $150 \nNew Haven Occidential mirror side fancy walnut parlor clock\, price: $225 \nFusee shelf cuckoo clock w/wood mvt plates attributed to Johann Baptiste Beha\, Price $950 \nBaroque one weight Vienna Regulator\, maker unknown\, price $275 \nSeth Thomas Gothic mahogany mantle\, clock\, time & strike\, with inlay\, price: $95 \nNew Haven Aurelle Mantle clock\, price: $25 \nGerman grandfather clock\, price: $95 \nAnniversary clock\, Price $10 \nGustav Becker free swinger\, circa 1912\, price: $295 \nEnglish wall regulator with fuse movement\, made by Cameron of Liverpool\, price: $300 \nWestern mantel clock\, rectangle case\, price: \nIngraham oak kitchen wall clock\, price: $125 \nIngraham Alliance store regulator with calendar\, price: $235 \nSeth Thomas O G clock\, price: $65 \nGilbert wall clock\, price: \nNew Haven sharp Gothic steeple clock with alarm\, price: $60 \nNew Haven Westminster tambour chime clock\, price: $35 \nNew Haven black mantle clock\, price: $55 \nSeth Thomas College series Yale clock\, price: $85 \nAnsonia cast iron mantle (plain dial)\, price: $95 \nAnsonia cast iron mantle clock\, fancy dial\, price: $95 \nAnsonia drop octagon calendar wall clock\, price: $145 \nSeth Thomas brass wall ship’s bell strike on ship’s wheel\, price: $165 \nSeth Thomas small tambour clock\, price: $25 \nGilbert tambour clock\, price: $25 \nJapanese clock\, price: $25 \nKeebler octagon\, price: $20 \n1920’s battery radio – five tube three dial TRF with Baldwin horn speaker\, price: $95
URL:https://minnesotawatches.com/event/earl-milbridge-clock-sale-part-1/
LOCATION:2288 15th Ave E North St. Paul\, MN 55109\, 2288 15th Ave. E\, North St. Paul\, MN\, 55109\, United States
END:VEVENT
END:VCALENDAR