BEGIN:VCALENDAR
VERSION:2.0
PRODID:-//Minnesota Clocks &amp; Watches - ECPv6.15.20//NONSGML v1.0//EN
CALSCALE:GREGORIAN
METHOD:PUBLISH
X-WR-CALNAME:Minnesota Clocks &amp; Watches
X-ORIGINAL-URL:https://minnesotawatches.com
X-WR-CALDESC:Events for Minnesota Clocks &amp; Watches
REFRESH-INTERVAL;VALUE=DURATION:PT1H
X-Robots-Tag:noindex
X-PUBLISHED-TTL:PT1H
BEGIN:VTIMEZONE
TZID:America/Chicago
BEGIN:DAYLIGHT
TZOFFSETFROM:-0600
TZOFFSETTO:-0500
TZNAME:CDT
DTSTART:20250309T080000
END:DAYLIGHT
BEGIN:STANDARD
TZOFFSETFROM:-0500
TZOFFSETTO:-0600
TZNAME:CST
DTSTART:20251102T070000
END:STANDARD
BEGIN:DAYLIGHT
TZOFFSETFROM:-0600
TZOFFSETTO:-0500
TZNAME:CDT
DTSTART:20260308T080000
END:DAYLIGHT
BEGIN:STANDARD
TZOFFSETFROM:-0500
TZOFFSETTO:-0600
TZNAME:CST
DTSTART:20261101T070000
END:STANDARD
BEGIN:DAYLIGHT
TZOFFSETFROM:-0600
TZOFFSETTO:-0500
TZNAME:CDT
DTSTART:20270314T080000
END:DAYLIGHT
BEGIN:STANDARD
TZOFFSETFROM:-0500
TZOFFSETTO:-0600
TZNAME:CST
DTSTART:20271107T070000
END:STANDARD
END:VTIMEZONE
BEGIN:VEVENT
DTSTART;TZID=America/Chicago:20260424T170000
DTEND;TZID=America/Chicago:20260426T170000
DTSTAMP:20260425T131826
CREATED:20260117T192021Z
LAST-MODIFIED:20260117T192643Z
UID:10000132-1777050000-1777222800@minnesotawatches.com
SUMMARY:Great Lakes Horological Society
DESCRIPTION:The Great Lakes Horological Society will have their annual meeting at Chula Vista Resort in Wisconsin Dells. Speakers are being assembled for clock and watch topics. Contact Us for more information!
URL:https://minnesotawatches.com/event/great-lakes-horological-society/
LOCATION:Chula Vista Resort\, 1000 Chula Vista Pkwy\, Wisconsin Dells\, WI\, 53965\, United States
END:VEVENT
BEGIN:VEVENT
DTSTART;TZID=America/Chicago:20260507T190000
DTEND;TZID=America/Chicago:20260507T210000
DTSTAMP:20260425T131826
CREATED:20260321T225856Z
LAST-MODIFIED:20260425T002812Z
UID:10000136-1778180400-1778187600@minnesotawatches.com
SUMMARY:Minnesota Horological Society May 2026 Meeting
DESCRIPTION:TJ Cornish will give a presentation on using multimeters to troubleshoot electric clocks. Topics covered will be AC and DC measurement\, continuity/resistance\, and some practical tests to get you on the road to solving the issue with your clock.
URL:https://minnesotawatches.com/event/minnesota-horological-society-may-2026-meeting/
LOCATION:St Steven’s Lutheran Church\, 8400 France Ave S\, Bloomington\, Minnesota\, 55431\, United States
END:VEVENT
BEGIN:VEVENT
DTSTART;TZID=America/Chicago:20260509T120000
DTEND;TZID=America/Chicago:20260509T160000
DTSTAMP:20260425T131826
CREATED:20260425T002604Z
LAST-MODIFIED:20260425T002606Z
UID:10000137-1778328000-1778342400@minnesotawatches.com
SUMMARY:NAWCC OT Lang May Meeting
DESCRIPTION:Bill Bauer will give a presentation on Fashion Calendar Clocks. Bill recently completed his book on Fashion clocks and will discuss how he researched the book\, and information on the clocks. \n\n\n\nAs several group members are noted authors\, there will be a special display of books written by members on Fashion clocks\, Carriage clocks\, Vienna Regulators\, and Accutron clocks and watches. Come and meet the authors and pick up a copy! \n\n\n\nDinner is an Asian Buffet. \n\n\n\nContact Us for information on attending.
URL:https://minnesotawatches.com/event/nawcc-ot-lang-may-meeting/
END:VEVENT
BEGIN:VEVENT
DTSTART;TZID=America/Chicago:20260523T100000
DTEND;TZID=America/Chicago:20260524T140000
DTSTAMP:20260425T131826
CREATED:20260425T003210Z
LAST-MODIFIED:20260425T003212Z
UID:10000139-1779530400-1779631200@minnesotawatches.com
SUMMARY:Midwest Watch Show
DESCRIPTION:Details TBD
URL:https://minnesotawatches.com/event/midwest-watch-show/
LOCATION:Comfort Inn Plymouth\, 3000 Harbor Ln\, N\, Plymouth\, MN\, 55447\, United States
END:VEVENT
BEGIN:VEVENT
DTSTART;TZID=America/Chicago:20260604T190000
DTEND;TZID=America/Chicago:20260604T210000
DTSTAMP:20260425T131826
CREATED:20260425T003010Z
LAST-MODIFIED:20260425T003013Z
UID:10000138-1780599600-1780606800@minnesotawatches.com
SUMMARY:Minnesota Horological Society June 2026 Meeting
DESCRIPTION:Dan LaVesque will give a presentation on testing and repairing quartz movements
URL:https://minnesotawatches.com/event/minnesota-horological-society-june-2026-meeting/
LOCATION:St Steven’s Lutheran Church\, 8400 France Ave S\, Bloomington\, Minnesota\, 55431\, United States
END:VEVENT
BEGIN:VEVENT
DTSTART;TZID=America/Chicago:20260718T170000
DTEND;TZID=America/Chicago:20260718T210000
DTSTAMP:20260425T131826
CREATED:20260425T003458Z
LAST-MODIFIED:20260425T003500Z
UID:10000140-1784394000-1784408400@minnesotawatches.com
SUMMARY:NAWCC OT Lang July Meeting
DESCRIPTION:Presentation to be announced shortly. \n\n\n\nContact Us to attend.
URL:https://minnesotawatches.com/event/nawcc-ot-lang-july-meeting-2/
END:VEVENT
BEGIN:VEVENT
DTSTART;TZID=America/Chicago:20260724T080000
DTEND;TZID=America/Chicago:20260726T170000
DTSTAMP:20260425T131826
CREATED:20260425T003802Z
LAST-MODIFIED:20260425T003804Z
UID:10000141-1784880000-1785085200@minnesotawatches.com
SUMMARY:Little Log House Power show
DESCRIPTION:The Minnesota Horological Society will have a building at the Little Log House Antique Power Show in Hastings\, MN. Join us for a chat and to purchase clocks or watches for sale by members.
URL:https://minnesotawatches.com/event/little-log-house-power-show/
LOCATION:Little Log House Pioneer Village\, 21889 Michael Avenue\, Hastings\, 55033\, United States
END:VEVENT
END:VCALENDAR